BEGIN:VCALENDAR
VERSION:2.0
PRODID:-//ChamberMaster//Event Calendar 2.0//EN
METHOD:PUBLISH
X-PUBLISHED-TTL:P3D
REFRESH-INTERVAL:P3D
CALSCALE:GREGORIAN
BEGIN:VEVENT
DTSTART:20160827T010000Z
DTEND:20160827T030000Z
X-MICROSOFT-CDO-ALLDAYEVENT:FALSE
SUMMARY:YAPPY HOUR by Squirrel Butter
DESCRIPTION:August 26th\, 2016 Performance by Squirrel Butter \n\nFacebook: https://www.facebook.com/squirrelbutter\n\nWebsite: http://www.squirrelbutter.com/Squirrel_Butter/Home.html\n\n\n\nVicki Basta will have her jewelry set up! Check out her Facebook: \n\nhttps://www.facebook.com/Vicki-Basta-Mixed-MediaBotanical-Art-Photography-Jewelry-265405493774/\n\n\n\nDo you have a four legged buddy that enjoys yummy snacks\, socializing with other dogs and listening to live bands?\n\nWell Yappy Hour is the event for you! Every Friday in June to Septmeber from 6-8pm you and your dog are welcome to the Renton Chamber of Commerce's second annual Yappy Hour event! Just located outside of the building (the former dinner train station) there will be a live band by the water fountain\, wine testing and a art gallery walk on the side of the building for you to enjoy!\n\nSeats will be provided but you are welcome to bring your own lawn chairs.\n\nComplimentary dog treats and water for all four legged guests!\n\nThere will be food trucks provided on certain Fridays. Check Facebook back for a list of Food Trucks that will be visiting on selected dates.\n\nYAPPY HOUR 6-8PM. BRING YOUR FRIENDS\, FAMILIES AND DOG FRIENDS.\n\nSNACKS\, WATER\,TREATS\, CHAIRS PROVIDED.\n\nYou are welcome to bring your own lawn chair :)\n\nWe can't wait to see all guests having a great time on a Friday night!\n\nRain or Shine!
X-ALT-DESC;FMTTYPE=text/html:<p style="margin: 1.5em 0px\; color: rgb(9\, 41\, 71)\; font-family: &quot\;Open sans&quot\;\, sans-serif\; font-size: 14px\; line-height: 24px\; background-color: rgb(246\, 247\, 240)\;">August 26th\, 2016 Performance by Squirrel Butter&nbsp\;<br />\nFacebook:&nbsp\;<span class="s1">https://www.facebook.com/squirrelbutter<br />\nWebsite:&nbsp\;http://www.squirrelbutter.com/Squirrel_Butter/Home.html<br />\n<br />\nVicki Basta&nbsp\;will have her jewelry set up! Check out her Facebook:&nbsp\;</span><br />\nhttps://www.facebook.com/Vicki-Basta-Mixed-MediaBotanical-Art-Photography-Jewelry-265405493774/<br />\n<br />\nDo you have a four legged buddy that enjoys yummy snacks\, socializing with other dogs and listening to live bands?</p>\n\n<p style="margin: 1.5em 0px\; color: rgb(9\, 41\, 71)\; font-family: &quot\;Open sans&quot\;\, sans-serif\; font-size: 14px\; line-height: 24px\; background-color: rgb(246\, 247\, 240)\;">Well&nbsp\;Yappy&nbsp\;Hour is the event for you! Every Friday in June to&nbsp\;Septmeber&nbsp\;from 6-8pm&nbsp\;you and your dog are welcome to the Renton Chamber of Commerce&#39\;s second annual&nbsp\;Yappy&nbsp\;Hour event! Just located outside of the building (the former dinner train station) there will be a live band by the water fountain\, wine testing and a art gallery walk on the side of the building for&nbsp\;you to enjoy!</p>\n\n<p style="margin: 1.5em 0px\; color: rgb(9\, 41\, 71)\; font-family: &quot\;Open sans&quot\;\, sans-serif\; font-size: 14px\; line-height: 24px\; background-color: rgb(246\, 247\, 240)\;">Seats will be provided but you are welcome to bring your own lawn chairs.</p>\n\n<p style="margin: 1.5em 0px\; color: rgb(9\, 41\, 71)\; font-family: &quot\;Open sans&quot\;\, sans-serif\; font-size: 14px\; line-height: 24px\; background-color: rgb(246\, 247\, 240)\;">Complimentary dog treats and water for all four legged guests!</p>\n\n<p style="margin: 1.5em 0px\; color: rgb(9\, 41\, 71)\; font-family: &quot\;Open sans&quot\;\, sans-serif\; font-size: 14px\; line-height: 24px\; background-color: rgb(246\, 247\, 240)\;">There will be food trucks provided on certain Fridays. Check Facebook back for a list of Food Trucks that will be visiting on selected dates.</p>\n\n<p style="margin: 1.5em 0px\; color: rgb(9\, 41\, 71)\; font-family: &quot\;Open sans&quot\;\, sans-serif\; font-size: 14px\; line-height: 24px\; background-color: rgb(246\, 247\, 240)\;">YAPPY&nbsp\;HOUR&nbsp\;6-8PM. BRING YOUR FRIENDS\, FAMILIES AND DOG FRIENDS.</p>\n\n<p style="margin: 1.5em 0px\; color: rgb(9\, 41\, 71)\; font-family: &quot\;Open sans&quot\;\, sans-serif\; font-size: 14px\; line-height: 24px\; background-color: rgb(246\, 247\, 240)\;">SNACKS\, WATER\,TREATS\, CHAIRS PROVIDED.</p>\n\n<p style="margin: 1.5em 0px\; color: rgb(9\, 41\, 71)\; font-family: &quot\;Open sans&quot\;\, sans-serif\; font-size: 14px\; line-height: 24px\; background-color: rgb(246\, 247\, 240)\;">You are welcome to bring your own lawn chair&nbsp\;<i>:)</i></p>\n\n<p style="margin: 1.5em 0px\; color: rgb(9\, 41\, 71)\; font-family: &quot\;Open sans&quot\;\, sans-serif\; font-size: 14px\; line-height: 24px\; background-color: rgb(246\, 247\, 240)\;">We can&#39\;t wait to see all guests having a great time on a Friday night!</p>\n\n<p style="margin: 1.5em 0px\; color: rgb(9\, 41\, 71)\; font-family: &quot\;Open sans&quot\;\, sans-serif\; font-size: 14px\; line-height: 24px\; background-color: rgb(246\, 247\, 240)\;">Rain or Shine!&nbsp\;</p>\n
LOCATION:Renton Chamber of Commerce by the water display 625 S 4th ST Renton\, WA 98057
UID:e.16.3830
SEQUENCE:3
DTSTAMP:20260421T203536Z
URL:http://devgorenton.chambermaster.com/events/details/yappy-hour-by-squirrel-butter-08-26-2016-3830
END:VEVENT

END:VCALENDAR
