BEGIN:VCALENDAR
VERSION:2.0
PRODID:-//ChamberMaster//Event Calendar 2.0//EN
METHOD:PUBLISH
X-PUBLISHED-TTL:P3D
REFRESH-INTERVAL:P3D
CALSCALE:GREGORIAN
BEGIN:VEVENT
DTSTART:20161008T170000Z
DTEND:20161008T200000Z
X-MICROSOFT-CDO-ALLDAYEVENT:FALSE
SUMMARY:VMC Clinic Public Open House
DESCRIPTION:Highlands Clinic Public Open House (3901 NE 4th St #105\, Renton\, WA 98056)\n\nSaturday\, Oct. 8\, 10 a.m. to 1 p.m.\n\nIn celebration of our Highlands Clinic's new location\, we are hosting an open house featuring:\n\n         Clinic tours\n\n         Blood pressure screenings\n\n         Meet and greet with our new providers\n\n         Low cost bicycle helmet sales and free fittings\n\n         MYID Kids' Club\n\n         Kid's Dentist\n\n         EMT from Renton Fire Department\n\n         Bouncy slide
X-ALT-DESC;FMTTYPE=text/html:<p class="p1"><span class="s1"><b>Highlands Clinic Public Open House (</b></span><span class="s2">3901 NE 4th St #105\, Renton\, WA 98056)</span></p>\n\n<p class="p2"><span class="s2"><b>Saturday\, Oct. 8\, 10 a.m. to 1 p.m.</b></span></p>\n\n<p class="p2"><span class="s2">In celebration of our Highlands Clinic&rsquo\;s new location\, we are hosting an open house featuring:</span></p>\n\n<p class="p2"><span class="s2">&middot\;</span><span class="s3">&nbsp\;&nbsp\;&nbsp\;&nbsp\;&nbsp\;&nbsp\;&nbsp\; </span><span class="s2">Clinic tours</span></p>\n\n<p class="p2"><span class="s2">&middot\;</span><span class="s3">&nbsp\;&nbsp\;&nbsp\;&nbsp\;&nbsp\;&nbsp\;&nbsp\; </span><span class="s2">Blood pressure screenings</span></p>\n\n<p class="p2"><span class="s2">&middot\;</span><span class="s3">&nbsp\;&nbsp\;&nbsp\;&nbsp\;&nbsp\;&nbsp\;&nbsp\; </span><span class="s2">Meet and greet with our new providers</span></p>\n\n<p class="p2"><span class="s2">&middot\;</span><span class="s3">&nbsp\;&nbsp\;&nbsp\;&nbsp\;&nbsp\;&nbsp\;&nbsp\; </span><span class="s2">Low cost bicycle helmet sales and free fittings</span></p>\n\n<p class="p2"><span class="s2">&middot\;</span><span class="s3">&nbsp\;&nbsp\;&nbsp\;&nbsp\;&nbsp\;&nbsp\;&nbsp\; </span><span class="s2">MYID Kids&rsquo\; Club</span></p>\n\n<p class="p2"><span class="s2">&middot\;</span><span class="s3">&nbsp\;&nbsp\;&nbsp\;&nbsp\;&nbsp\;&nbsp\;&nbsp\; </span><span class="s2">Kid&rsquo\;s Dentist</span></p>\n\n<p class="p2"><span class="s2">&middot\;</span><span class="s3">&nbsp\;&nbsp\;&nbsp\;&nbsp\;&nbsp\;&nbsp\;&nbsp\; </span><span class="s2">EMT from Renton Fire Department</span></p>\n\n<p class="p2"><span class="s2">&middot\;</span><span class="s3">&nbsp\;&nbsp\;&nbsp\;&nbsp\;&nbsp\;&nbsp\;&nbsp\; </span><span class="s2">Bouncy slide</span></p>\n
LOCATION:3901 NE 4th St #105\, Renton\, WA 98056
UID:e.16.3996
SEQUENCE:3
DTSTAMP:20260422T082516Z
URL:http://devgorenton.chambermaster.com/events/details/vmc-clinic-public-open-house-3996
END:VEVENT

END:VCALENDAR
