BEGIN:VCALENDAR
VERSION:2.0
PRODID:-//ChamberMaster//Event Calendar 2.0//EN
METHOD:PUBLISH
X-PUBLISHED-TTL:P3D
REFRESH-INTERVAL:P3D
CALSCALE:GREGORIAN
BEGIN:VEVENT
DTSTART:20140804T160000Z
DTEND:20140808T190000Z
X-MICROSOFT-CDO-ALLDAYEVENT:FALSE
SUMMARY:Vacation Bible School
DESCRIPTION:Kids love crazy\, weird animals?the weirder the better. So we searched the globe for the most special\, unique\, rare\, never-before-seen animals we could find to help kids discover what Jesus one-of-a-kind love means in their lives. At Weird Animals\, kids will learn about some of God?s most creative creations! They?ll participate in memorable Bible-learning activities\, sing catchy songs\, play teamwork-building games\, make and dig into yummy treats\, experience cool Bible adventures\, collect Bible Memory Buddies to remind them they are one of a kind\, and test out Sciency-Fun Gizmos they?ll take home and play with all summer long. Plus\, kids will learn to look for evidence of God all around them through something called God Sightings. Each day concludes with The Tail End?a celebration that gets everyone involved in living what they?ve learned. Family members and friends are encouraged to join in daily for this special time at
X-ALT-DESC;FMTTYPE=text/html:Kids love crazy\, weird animals?the weirder the better. So we searched the globe for the most special\, unique\, rare\, never-before-seen animals we could find to help kids discover what Jesus one-of-a-kind love means in their lives. At Weird Animals\, kids will learn about some of God?s most creative creations! They?ll participate in memorable Bible-learning activities\, sing catchy songs\, play teamwork-building games\, make and dig into yummy treats\, experience cool Bible adventures\, collect Bible Memory Buddies to remind them they are one of a kind\, and test out Sciency-Fun Gizmos they?ll take home and play with all summer long. Plus\, kids will learn to look for evidence of God all around them through something called God Sightings. Each day concludes with The Tail End?a celebration that gets everyone involved in living what they?ve learned. Family members and friends are encouraged to join in daily for this special time at
LOCATION:King of Kings Lutheran Church 18207 108th Ave SE Renton WA 98055
UID:e.16.2703
SEQUENCE:3
DTSTAMP:20260425T182815Z
URL:http://devgorenton.chambermaster.com/events/details/vacation-bible-school-08-04-2014-2703
END:VEVENT

END:VCALENDAR
