BEGIN:VCALENDAR
VERSION:2.0
PRODID:-//ChamberMaster//Event Calendar 2.0//EN
METHOD:PUBLISH
X-PUBLISHED-TTL:P3D
REFRESH-INTERVAL:P3D
CALSCALE:GREGORIAN
BEGIN:VEVENT
DTSTART:20160221T010000Z
DTEND:20160221T013000Z
X-MICROSOFT-CDO-ALLDAYEVENT:FALSE
SUMMARY:Urban Float - Ribbon Cutting
DESCRIPTION:Grand Opening of Urban Float
X-ALT-DESC;FMTTYPE=text/html:Grand Opening of Urban Float
LOCATION:727 N. 10th St.\, Ste B Renton\, WA 98057
UID:e.16.3180
SEQUENCE:3
DTSTAMP:20260425T125346Z
URL:http://devgorenton.chambermaster.com/events/details/urban-float-ribbon-cutting-02-20-2016-3180
END:VEVENT

END:VCALENDAR
