BEGIN:VCALENDAR
VERSION:2.0
PRODID:-//ChamberMaster//Event Calendar 2.0//EN
METHOD:PUBLISH
X-PUBLISHED-TTL:P3D
REFRESH-INTERVAL:P3D
CALSCALE:GREGORIAN
BEGIN:VEVENT
DTSTART:20150513T143000Z
DTEND:20150513T160000Z
X-MICROSOFT-CDO-ALLDAYEVENT:FALSE
SUMMARY:Third Annual RTC Foundation Scholarship Breakfast
DESCRIPTION:Please join the RTC Foundation Board and guests at our Third Annual Scholarship Breakfast. The theme this year is 'When you Wish Upon a Star...Dreams Come True' and dreams are what our guests can make possible. Master of Ceremony\, Angela Russell will kick off the morning with stories from Alumni and Scholars\, as well as a keynote delivered by Marcie Maxwell\, Senior Policy Advisor on Education to the Washington State Governor's Office. The event is complimentary and a minimum donation of $75 is suggested. Registration is available at www.rtc.edu/breakfast Sponsorship and Advertisement opportunities are available at Foundation@rtc.edu
X-ALT-DESC;FMTTYPE=text/html:Please join the RTC Foundation Board and guests at our Third Annual Scholarship Breakfast. The theme this year is &#39\;When you Wish Upon a Star...Dreams Come True&#39\; and dreams are what our guests can make possible. Master of Ceremony\, Angela Russell will kick off the morning with stories from Alumni and Scholars\, as well as a keynote delivered by Marcie Maxwell\, Senior Policy Advisor on Education to the Washington State Governor&#39\;s Office. The event is complimentary and a minimum donation of $75 is suggested. Registration is available at www.rtc.edu/breakfast Sponsorship and Advertisement opportunities are available at Foundation@rtc.edu
LOCATION:RTC Cafeteria 3000 NE 4th Street Renton\, WA 98056
UID:e.16.2837
SEQUENCE:3
DTSTAMP:20260422T235511Z
URL:http://devgorenton.chambermaster.com/events/details/third-annual-rtc-foundation-scholarship-breakfast-05-13-2015-2837
END:VEVENT

END:VCALENDAR
