BEGIN:VCALENDAR
VERSION:2.0
PRODID:-//ChamberMaster//Event Calendar 2.0//EN
METHOD:PUBLISH
X-PUBLISHED-TTL:P3D
REFRESH-INTERVAL:P3D
CALSCALE:GREGORIAN
BEGIN:VEVENT
DTSTART:20141005T010000Z
DTEND:20141005T053000Z
X-MICROSOFT-CDO-ALLDAYEVENT:FALSE
SUMMARY:Star Studded Soiree with Studio B Dance
DESCRIPTION:Enjoy an evening of fabulous fun & entertainment with Studio B Dance (www.studio-b-dance.com).  Our Star Studded Soiree will kick off with a 90-minute concert by The Coats Vocal Band (www.thecoats.net) followed by 2 1/2 hours of open dancing to the music stylings of DJ Jeannette Baker.  All dance styles will be represented (Ballroom\, Latin\, Swing\, Country\, Nightclub\, Line Dancing) but no dance experience is required to attend the event.\n\n\n\nCost is $15 per person at the door.  Doors will open at 6:00pm\, concert will run from 6:30-8:00pm\, open dancing will go until 10:30pm.  Non-alcoholic beverages will be available for purchase.\n\n\n\nCome out and have some fun.  This will be a great event to share fun with fellow community members!  Contact Jeannette Baker if you have any questions.  See you there!
X-ALT-DESC;FMTTYPE=text/html:Enjoy an evening of fabulous fun &amp\; entertainment with Studio B Dance (www.studio-b-dance.com). &nbsp\;Our <strong>Star Studded Soiree</strong> will kick off with a 90-minute concert by <strong>The Coats Vocal Band</strong> (www.thecoats.net) followed by 2 1/2 hours of open dancing to the music stylings of DJ Jeannette Baker. &nbsp\;All dance styles will be represented (Ballroom\, Latin\, Swing\, Country\, Nightclub\, Line Dancing) but no dance experience is required to attend the event.<br />\n<br />\nCost is $15 per person at the door. &nbsp\;Doors will open at 6:00pm\, concert will run from 6:30-8:00pm\, open dancing will go until 10:30pm. &nbsp\;Non-alcoholic beverages will be available for purchase.<br />\n<br />\nCome out and have some fun. &nbsp\;This will be a great event to share fun with fellow community members! &nbsp\;Contact Jeannette Baker if you have any questions. &nbsp\;See you there!
LOCATION:Hazen High School Cafeteria 1101 Hoquiam Ave NE\, Renton\, WA 98059
UID:e.16.2749
SEQUENCE:3
DTSTAMP:20260423T160331Z
URL:http://devgorenton.chambermaster.com/events/details/star-studded-soiree-with-studio-b-dance-10-04-2014-2749
END:VEVENT

END:VCALENDAR
