BEGIN:VCALENDAR
VERSION:2.0
PRODID:-//ChamberMaster//Event Calendar 2.0//EN
METHOD:PUBLISH
X-PUBLISHED-TTL:P3D
REFRESH-INTERVAL:P3D
CALSCALE:GREGORIAN
BEGIN:VEVENT
DTSTART:20160210T180000Z
DTEND:20160211T070000Z
X-MICROSOFT-CDO-ALLDAYEVENT:FALSE
SUMMARY:Save the Date
DESCRIPTION:You are cordially invited to have Brunch with Glenn Turner\, Executive Director of Emergency Feeding Program. Discussion Topics: Rebranding of EFP 15 diverse bag types\, Rate the Plate Competition to include local chefs using the contents of our bags creating delicious meals\, Invitees will vote the best dish\, and volunteer opportunities. Kenneth Dixon is our vendor for the month of February. Kennideez will showcase products of Healthy eating and Wellness will be onsite. RSVP by February 5\, 2016
X-ALT-DESC;FMTTYPE=text/html:You are cordially invited to have Brunch with Glenn Turner\, Executive Director of Emergency Feeding Program. Discussion Topics: Rebranding of EFP 15 diverse bag types\, Rate the Plate Competition to include local chefs using the contents of our bags creating delicious meals\, Invitees will vote the best dish\, and volunteer opportunities. Kenneth Dixon is our vendor for the month of February. Kennideez will showcase products of Healthy eating and Wellness will be onsite. RSVP by February 5\, 2016
LOCATION:851 Houser Way North Renton\, WA 98057
UID:e.16.2962
SEQUENCE:3
DTSTAMP:20260420T004724Z
URL:http://devgorenton.chambermaster.com/events/details/save-the-date-02-10-2016-2962
END:VEVENT

END:VCALENDAR
