BEGIN:VCALENDAR
VERSION:2.0
PRODID:-//ChamberMaster//Event Calendar 2.0//EN
METHOD:PUBLISH
X-PUBLISHED-TTL:P3D
REFRESH-INTERVAL:P3D
CALSCALE:GREGORIAN
BEGIN:VEVENT
DTSTART:20150310T210000Z
DTEND:20150310T220000Z
X-MICROSOFT-CDO-ALLDAYEVENT:FALSE
SUMMARY:Rightsizing 101: Tips & Techniques for successful downsizing for Seniors
DESCRIPTION:Take the stress out of de-cluttering. Learn practical information and get advice on how to:\n\n	Keep what you Love\n	Get rid of the "stuff"\n	Handle the items that have value\, but you don't want to keep\n	Maintain family harmony\n	Move forward in your life\n\n\n\nEric Rovner holds a Master's Degree from Cornell University and has worked in the retirement industry for more than 15 years. He is the founder of HB Move Mangement and takes great pride in the transition assistance his dedicated team provides to clients and their families.
X-ALT-DESC;FMTTYPE=text/html:Take the stress out of de-cluttering. Learn practical information and get advice on how to:\n<ul>\n	<li>Keep what you Love</li>\n	<li>Get rid of the &quot\;stuff&quot\;</li>\n	<li>Handle the items that have value\, but you don&#39\;t want to keep</li>\n	<li>Maintain family harmony</li>\n	<li>Move forward in your life</li>\n</ul>\n<br />\nEric Rovner holds a Master&#39\;s Degree from Cornell University and has worked in the retirement industry for more than 15 years. He is the founder of HB Move Mangement and takes great pride in the transition assistance his dedicated team provides to clients and their families.
LOCATION:The Lakeshore Retirement Community
UID:e.16.2821
SEQUENCE:3
DTSTAMP:20260422T112935Z
URL:http://devgorenton.chambermaster.com/events/details/rightsizing-101-tips-techniques-for-successful-downsizing-for-seniors-03-10-2015-2821
END:VEVENT

END:VCALENDAR
