BEGIN:VCALENDAR
VERSION:2.0
PRODID:-//ChamberMaster//Event Calendar 2.0//EN
METHOD:PUBLISH
X-PUBLISHED-TTL:P3D
REFRESH-INTERVAL:P3D
CALSCALE:GREGORIAN
BEGIN:VEVENT
DTSTART:20140411T173000Z
DTEND:20140411T183000Z
X-MICROSOFT-CDO-ALLDAYEVENT:FALSE
SUMMARY:Ribbon Cutting at The Emergency Feeding Program
DESCRIPTION:Join fellow chamber members in celebrating the new location of the Emergency Feeding Program .
X-ALT-DESC;FMTTYPE=text/html:Join fellow chamber members in celebrating the new location of the Emergency Feeding Program .
LOCATION:851 Houser Way North Renton\, WA 98057
UID:e.16.2530
SEQUENCE:3
DTSTAMP:20260425T193328Z
URL:http://devgorenton.chambermaster.com/events/details/ribbon-cutting-at-the-emergency-feeding-program-04-11-2014-2530
END:VEVENT

END:VCALENDAR
