BEGIN:VCALENDAR
VERSION:2.0
PRODID:-//ChamberMaster//Event Calendar 2.0//EN
METHOD:PUBLISH
X-PUBLISHED-TTL:P3D
REFRESH-INTERVAL:P3D
CALSCALE:GREGORIAN
BEGIN:VEVENT
DTSTART:20140411T160000Z
DTEND:20140411T180000Z
X-MICROSOFT-CDO-ALLDAYEVENT:FALSE
SUMMARY:Professional Development and Advanced Communications Workshop
DESCRIPTION:The purpose of this workshop is to identify and address those areas that may be holding you back in your professional growth. This will include developing solutions to many of the challenges you may be facing in interacting with prospects and clients\, managing employees\, and growing your business or your company.
X-ALT-DESC;FMTTYPE=text/html:The purpose of this workshop is to identify and address those areas that may be holding you back in your professional growth. This will include developing solutions to many of the challenges you may be facing in interacting with prospects and clients\, managing employees\, and growing your business or your company.
LOCATION:Sandler Training Center 2815 Eastlake Ave E Suite 150 Seattle\, WA 98102
UID:e.16.2521
SEQUENCE:3
DTSTAMP:20260425T132912Z
URL:http://devgorenton.chambermaster.com/events/details/professional-development-and-advanced-communications-workshop-04-11-2014-2521
END:VEVENT

END:VCALENDAR
