BEGIN:VCALENDAR
VERSION:2.0
PRODID:-//ChamberMaster//Event Calendar 2.0//EN
METHOD:PUBLISH
X-PUBLISHED-TTL:P3D
REFRESH-INTERVAL:P3D
CALSCALE:GREGORIAN
BEGIN:VEVENT
DTSTART:20160916T190000Z
DTEND:20160917T030000Z
X-MICROSOFT-CDO-ALLDAYEVENT:FALSE
SUMMARY:Pop up Downtown Renton
DESCRIPTION:POP-UP DOWN TOWN \n\nCelebrating Renton's newest businesses with food\, music\, art and more!
X-ALT-DESC;FMTTYPE=text/html:POP-UP DOWN TOWN&nbsp\;<br />\nCelebrating Renton&#39\;s newest businesses with food\, music\, art and more!&nbsp\;
LOCATION:Grand Openings Four Generals Brewing 229 Wells Ave S. Renton WA 98057 Urban Sprouts 724 S 3RD ST Suite B Renton\, WA 98058
UID:e.16.3841
SEQUENCE:3
DTSTAMP:20260424T000056Z
URL:http://devgorenton.chambermaster.com/events/details/pop-up-downtown-renton-09-16-2016-3841
END:VEVENT

END:VCALENDAR
