BEGIN:VCALENDAR
VERSION:2.0
PRODID:-//ChamberMaster//Event Calendar 2.0//EN
METHOD:PUBLISH
X-PUBLISHED-TTL:P3D
REFRESH-INTERVAL:P3D
CALSCALE:GREGORIAN
BEGIN:VEVENT
DTSTART:20181208T190000Z
DTEND:20181208T200000Z
X-MICROSOFT-CDO-ALLDAYEVENT:FALSE
SUMMARY:Navigating Life in America
DESCRIPTION:is hosting a workshop in partnership with the King County Library System about Navigating Life in America. This workshop is intended to offer recent immigrants a place to discuss cross-cultural communication skills and adapting to US culture. The workshop will be on December 8 at 10 am (in Mandarin) and 11 am (in Vietnamese). Ch ng t i s? m? m?t cu?c h?i th?o v? vi?c tu v?n cho nh?ng ngu?i m?i nh?p cu v o M? g?n d y. Ch?ng h?n nhu nh?ng cu?c h?p ph? huynh v? c c v?n d? ? tru?ng h?c c?a con em ch ng ta\, nh?ng c ng vi?c l m t nh nguy?n ? tru?ng h?c\, c c quy t?c giao th ng v  m?t s? t nh hu?ng b?t ng? x?y ra\, vi?c di kh m s?c kho?\, c c quy?n l?i c?a nh n vi n\, nh?ng v?n d? thu?ng g?p trong cu?c s?ng h ng ng y\, v  r n luy?n m?t s? c?m t? ti?ng anh th ng d?ng h ng ng y. (M?c d ch c?a cu?c h?i th?o l  gi p d? nh?ng ngu?i nh?p cu m?i d y ho?c nh?ng ngu?i d?n M? du l?ch d? h?i nh?p v?i cu?c s?ng ? M? d? d ng hon. Ch ng t i r?t ti?c s? kh ng cung c?p b?t c? th? t?c h nh ch nh n o li n quan d?n vi?c nh?p cu.) Qu  v? vui l ng
X-ALT-DESC;FMTTYPE=text/html:is hosting a workshop in partnership with the King County Library System about Navigating Life in America. This workshop is intended to offer recent immigrants a place to discuss cross-cultural communication skills and adapting to US culture. The workshop will be on December 8 at 10 am (in Mandarin) and 11 am (in Vietnamese). Ch&uacute\;ng t&ocirc\;i s? m? m?t cu?c h?i th?o v? vi?c tu v?n cho nh?ng ngu?i m?i nh?p cu v&agrave\;o M? g?n d&acirc\;y. Ch?ng h?n nhu nh?ng cu?c h?p ph? huynh v? c&aacute\;c v?n d? ? tru?ng h?c c?a con em ch&uacute\;ng ta\, nh?ng c&ocirc\;ng vi?c l&agrave\;m t&igrave\;nh nguy?n ? tru?ng h?c\, c&aacute\;c quy t?c giao th&ocirc\;ng v&agrave\; m?t s? t&igrave\;nh hu?ng b?t ng? x?y ra\, vi?c di kh&aacute\;m s?c kho?\, c&aacute\;c quy?n l?i c?a nh&acirc\;n vi&ecirc\;n\, nh?ng v?n d? thu?ng g?p trong cu?c s?ng h&agrave\;ng ng&agrave\;y\, v&agrave\; r&egrave\;n luy?n m?t s? c?m t? ti?ng anh th&ocirc\;ng d?ng h&agrave\;ng ng&agrave\;y. (M?c d&iacute\;ch c?a cu?c h?i th?o l&agrave\; gi&uacute\;p d? nh?ng ngu?i nh?p cu m?i d&acirc\;y ho?c nh?ng ngu?i d?n M? du l?ch d? h?i nh?p v?i cu?c s?ng ? M? d? d&agrave\;ng hon. Ch&uacute\;ng t&ocirc\;i r?t ti?c s? kh&ocirc\;ng cung c?p b?t c? th? t?c h&agrave\;nh ch&iacute\;nh n&agrave\;o li&ecirc\;n quan d?n vi?c nh?p cu.) Qu&yacute\; v? vui l&ograve\;ng
LOCATION:Renton Technical College Learning Resource & Career Center Room C102 Building C 3000 NE 4th St. Renton\, WA 98056
UID:e.16.5987
SEQUENCE:3
DTSTAMP:20260424T000056Z
URL:http://devgorenton.chambermaster.com/events/details/navigating-life-in-america-5987
END:VEVENT

END:VCALENDAR
