BEGIN:VCALENDAR
VERSION:2.0
PRODID:-//ChamberMaster//Event Calendar 2.0//EN
METHOD:PUBLISH
X-PUBLISHED-TTL:P3D
REFRESH-INTERVAL:P3D
CALSCALE:GREGORIAN
BEGIN:VEVENT
DTSTART:20160311T220000Z
DTEND:20160313T000000Z
X-MICROSOFT-CDO-ALLDAYEVENT:FALSE
SUMMARY:Metacognition & Mindfulness: A Reading Apprenticeship Conference
DESCRIPTION:This conference is all about helping students become stronger\, more strategic readers across a wide variety of disciplines. Reading Apprenticeship helps students learn new reading dispositions and maneuvers to keep them engaged. This regional event has faculty attending and presenting from community colleges in Washington\, Oregon\, and California. Presentations on how to read for STEM\, math\, ESOL\, and across the disciplines will be offered.
X-ALT-DESC;FMTTYPE=text/html:This conference is all about helping students become stronger\, more strategic readers across a wide variety of disciplines. Reading Apprenticeship helps students learn new reading dispositions and maneuvers to keep them engaged. This regional event has faculty attending and presenting from community colleges in Washington\, Oregon\, and California. Presentations on how to read for STEM\, math\, ESOL\, and across the disciplines will be offered.
LOCATION:Renton Technical College 3000 NE 4th Renton\, WA 98056
UID:e.16.2906
SEQUENCE:3
DTSTAMP:20260425T125346Z
URL:http://devgorenton.chambermaster.com/events/details/metacognition-mindfulness-a-reading-apprenticeship-conference-03-11-2016-2906
END:VEVENT

END:VCALENDAR
