BEGIN:VCALENDAR
VERSION:2.0
PRODID:-//ChamberMaster//Event Calendar 2.0//EN
METHOD:PUBLISH
X-PUBLISHED-TTL:P3D
REFRESH-INTERVAL:P3D
CALSCALE:GREGORIAN
BEGIN:VEVENT
DTSTART:20141015T000000Z
DTEND:20141015T013000Z
X-MICROSOFT-CDO-ALLDAYEVENT:FALSE
SUMMARY:Jumpstart your Startup
DESCRIPTION:The Reactor (2820 Elliott Ave\, Seattle 98121)\n\nTurn your dream idea into real innovation with tips from startup superstars. Learn the art of the pitch and other keys to getting investors excited about your ideas and successfully launching your business. Confirmed speakers include: Rebecca Lovell\, Startup Liaison\, City of Seattle\; and Bryan Brewer\, CEO\, Business Plans Northwest.
X-ALT-DESC;FMTTYPE=text/html:<p style="margin: 0px\; padding: 0px 0px 15px\; border: 0px\; outline: 0px\; font-size: 11px\; vertical-align: baseline\; font-family: Helvetica\, 'Lucida Sans Unicode'\, verdana\, geneva\, sans-serif\; line-height: 13.1999998092651px\; background: rgb(255\, 255\, 255)\;">The Reactor (2820 Elliott Ave\, Seattle 98121)</p>\n\n<p style="margin: 0px\; padding: 0px 0px 15px\; border: 0px\; outline: 0px\; font-size: 11px\; vertical-align: baseline\; font-family: Helvetica\, 'Lucida Sans Unicode'\, verdana\, geneva\, sans-serif\; line-height: 13.1999998092651px\; background: rgb(255\, 255\, 255)\;"><em style="margin: 0px\; padding: 0px\; border: 0px\; outline: 0px\; vertical-align: baseline\; background: transparent\;">Turn your dream idea into real innovation with tips from startup superstars.&nbsp\;Learn the art of the pitch and other keys to getting investors excited about your ideas and successfully launching your business.&nbsp\;<span style="margin: 0px\; padding: 0px\; border: 0px\; outline: 0px\; vertical-align: baseline\; text-decoration: underline\; background: transparent\;">Confirmed speakers include</span>:&nbsp\;<strong style="margin: 0px\; padding: 0px\; border: 0px\; outline: 0px\; vertical-align: baseline\; background: transparent\;">Rebecca Lovell</strong>\, Startup Liaison\, City of Seattle\; and</em>&nbsp\;<em style="margin: 0px\; padding: 0px\; border: 0px\; outline: 0px\; vertical-align: baseline\; background: transparent\;"><strong style="margin: 0px\; padding: 0px\; border: 0px\; outline: 0px\; vertical-align: baseline\; background: transparent\;">Bryan Brewer</strong>\, CEO\, Business Plans Northwest.</em></p>\n\n<div>&nbsp\;</div>\n
LOCATION:2820 Elliott ave Seattle Wa 98121
UID:e.16.2756
SEQUENCE:3
DTSTAMP:20260424T080744Z
URL:http://devgorenton.chambermaster.com/events/details/jumpstart-your-startup-10-14-2014-2756
END:VEVENT

END:VCALENDAR
