BEGIN:VCALENDAR
VERSION:2.0
PRODID:-//ChamberMaster//Event Calendar 2.0//EN
METHOD:PUBLISH
X-PUBLISHED-TTL:P3D
REFRESH-INTERVAL:P3D
CALSCALE:GREGORIAN
BEGIN:VEVENT
DTSTART:20150623T160000Z
DTEND:20150623T190000Z
X-MICROSOFT-CDO-ALLDAYEVENT:FALSE
SUMMARY:Hiring Assistance Workshop
DESCRIPTION:Unfortunately\, often times we're faced with a challenge of hiring with high expectations\, but after your investments and training they prove not to be right for the position. This is not only very frustrating for employers\, but can be very costly. Finding the right salespeople can be difficult\, but with this workshop we'll provide you with the tools and information you need to prevent making expensive hiring mistakes. Investment: $99
X-ALT-DESC;FMTTYPE=text/html:Unfortunately\, often times we&#39\;re faced with a challenge of hiring with high expectations\, but after your investments and training they prove not to be right for the position. This is not only very frustrating for employers\, but can be very costly. Finding the right salespeople can be difficult\, but with this workshop we&#39\;ll provide you with the tools and information you need to prevent making expensive hiring mistakes. Investment: $99
LOCATION:Sandler Training Center 6840 Fort Dent Way\, Suite 100 Tukwila\, WA 98188
UID:e.16.2849
SEQUENCE:3
DTSTAMP:20260423T010433Z
URL:http://devgorenton.chambermaster.com/events/details/hiring-assistance-workshop-06-23-2015-2849
END:VEVENT

END:VCALENDAR
