BEGIN:VCALENDAR
VERSION:2.0
PRODID:-//ChamberMaster//Event Calendar 2.0//EN
METHOD:PUBLISH
X-PUBLISHED-TTL:P3D
REFRESH-INTERVAL:P3D
CALSCALE:GREGORIAN
BEGIN:VEVENT
DTSTART:20171015T170000Z
DTEND:20171015T190000Z
X-MICROSOFT-CDO-ALLDAYEVENT:FALSE
SUMMARY:Feel the Thrill Conquer the Hill
DESCRIPTION:Join Avery's Gift Guild and Therapeutic Associates Fairwood Physical Therapy for the 2nd annual Feel the Thrill Conquer the Hill Walk/Run benefiting Seattle Children's Hospital. The hill climb symbolizes the challenges that these inspiring children conquer while going through treatment at Seattle Children's. This event unites our community to raise funds for uncompensated care\, which totaled 127 million in 2016\, and allows continued care for every child in need. Challenge yourself for a 4 mile out and back walk or run on Renton's infamous 140th hill or donate to help us raise money for a wonderful cause!!
X-ALT-DESC;FMTTYPE=text/html:Join Avery&#39\;s Gift Guild and Therapeutic Associates Fairwood Physical Therapy for the 2nd annual Feel the Thrill Conquer the Hill Walk/Run benefiting Seattle Children&#39\;s Hospital. The hill climb symbolizes the challenges that these inspiring children conquer while going through treatment at Seattle Children&#39\;s. This event unites our community to raise funds for uncompensated care\, which totaled 127 million in 2016\, and allows continued care for every child in need. Challenge yourself for a 4 mile out and back walk or run on Renton&#39\;s infamous 140th hill or donate to help us raise money for a wonderful cause!!
LOCATION:Ron Regis Park up 140th and back down.
UID:e.16.5042
SEQUENCE:3
DTSTAMP:20260423T073511Z
URL:http://devgorenton.chambermaster.com/events/details/feel-the-thrill-conquer-the-hill-5042
END:VEVENT

END:VCALENDAR
