BEGIN:VCALENDAR
VERSION:2.0
PRODID:-//ChamberMaster//Event Calendar 2.0//EN
METHOD:PUBLISH
X-PUBLISHED-TTL:P3D
REFRESH-INTERVAL:P3D
CALSCALE:GREGORIAN
BEGIN:VEVENT
DTSTART:20160311T020000Z
DTEND:20160311T040000Z
X-MICROSOFT-CDO-ALLDAYEVENT:FALSE
SUMMARY:Emerging Leaders in Renton
DESCRIPTION:Emerging Leaders in Renton\n\n \n\nDo you see the great potential for the city of Renton? Do you want to be part of a new networking group that works to build the community up while building each other up?\n\nJoin us on March 10 at 6pm at the Renton Chamber of Commerce to discuss the enormous impact we can have on our community! It will be a night of brainstorming about the endless possibilities for the future of Renton!\n\nInterested but have more questions? Please RSVP or ask further questions to Ben Andrews at bandrews@gorenton.com or 425-226-4560
X-ALT-DESC;FMTTYPE=text/html:<div><strong><font size="3">Emerging Leaders in Renton</font></strong></div>\n\n<div>&nbsp\;</div>\n\n<div><font size="2">Do you see the great potential for the city of Renton? Do you want to be part of a new networking group that works to build the community up while building each other up?<br />\nJoin us on March 10 at 6pm at the Renton Chamber of Commerce to discuss the enormous impact we can have on our community! It will be a night of brainstorming about the endless possibilities for the future of Renton!<br />\nInterested but have more questions? Please RSVP or ask further questions to Ben Andrews at <a href="mailto:bandrews@gorenton.com">bandrews</a><a>@gorenton.com</a> or 425-226-4560</font></div>\n
LOCATION:Chamber of Commerce
UID:e.16.2899
SEQUENCE:3
DTSTAMP:20260421T142119Z
URL:http://devgorenton.chambermaster.com/events/details/emerging-leaders-in-renton-03-10-2016-2899
END:VEVENT

END:VCALENDAR
