BEGIN:VCALENDAR
VERSION:2.0
PRODID:-//ChamberMaster//Event Calendar 2.0//EN
METHOD:PUBLISH
X-PUBLISHED-TTL:P3D
REFRESH-INTERVAL:P3D
CALSCALE:GREGORIAN
BEGIN:VEVENT
DTSTART:20140422T152500Z
DTEND:20140422T163000Z
X-MICROSOFT-CDO-ALLDAYEVENT:FALSE
SUMMARY:DTR Events Meeting
DESCRIPTION:The downtown events committee meets the second Friday of the month at 8:30 am at the Renton Chamber of Commerce
X-ALT-DESC;FMTTYPE=text/html:<p>\n	The downtown events committee meets the second Friday of the month at 8:30 am at the Renton Chamber of Commerce</p>\n
LOCATION:625 South 4th St Renton\, WA 98057
UID:e.16.2489
SEQUENCE:3
DTSTAMP:20260426T003840Z
URL:http://devgorenton.chambermaster.com/events/details/dtr-events-meeting-04-22-2014-2489
END:VEVENT

END:VCALENDAR
