BEGIN:VCALENDAR
VERSION:2.0
PRODID:-//ChamberMaster//Event Calendar 2.0//EN
METHOD:PUBLISH
X-PUBLISHED-TTL:P3D
REFRESH-INTERVAL:P3D
CALSCALE:GREGORIAN
BEGIN:VEVENT
DTSTART:20140721T143000Z
DTEND:20140721T153000Z
X-MICROSOFT-CDO-ALLDAYEVENT:FALSE
SUMMARY:Breakfast with the Director
DESCRIPTION:Emergency Feeding Program would like you to join us for breakfast with our Director to discuss the future of the Organization. Your input will provide valuable insight into how we can best serve our community.
X-ALT-DESC;FMTTYPE=text/html:<br />\nEmergency Feeding Program would like you to join us for breakfast with our Director to discuss the future of the Organization. Your input will provide valuable insight into how we can best serve our community.<br />\n&nbsp\;
LOCATION:851 Houser Way North Renton\, WA 98057
UID:e.16.2711
SEQUENCE:3
DTSTAMP:20260425T195742Z
URL:http://devgorenton.chambermaster.com/events/details/breakfast-with-the-director-07-21-2014-2711
END:VEVENT

END:VCALENDAR
