BEGIN:VCALENDAR
VERSION:2.0
PRODID:-//ChamberMaster//Event Calendar 2.0//EN
METHOD:PUBLISH
X-PUBLISHED-TTL:P3D
REFRESH-INTERVAL:P3D
CALSCALE:GREGORIAN
BEGIN:VEVENT
DTSTART:20141120T031500Z
DTEND:20141120T041500Z
X-MICROSOFT-CDO-ALLDAYEVENT:FALSE
SUMMARY:Boeing Social
DESCRIPTION:Everyone is invited to join us as we celebrate the contributions of Boeing retirees and employees at The Lakeshore. Share your stories and experiences. Reconnect with past colleagues. Meet others who share this special connection to Boeing. Enjoy a complimentary dessert buffet. Kindly RSVP at 206-772-1200!
X-ALT-DESC;FMTTYPE=text/html:Everyone is invited to join us as we celebrate the contributions of Boeing retirees and employees at The Lakeshore. Share your stories and experiences. Reconnect with past colleagues. Meet others who share this special connection to Boeing. Enjoy a complimentary dessert buffet. Kindly RSVP at 206-772-1200!
LOCATION:The Lakeshore Retirement Community
UID:e.16.2762
SEQUENCE:3
DTSTAMP:20260423T160331Z
URL:http://devgorenton.chambermaster.com/events/details/boeing-social-11-19-2014-2762
END:VEVENT

END:VCALENDAR
