BEGIN:VCALENDAR
VERSION:2.0
PRODID:-//ChamberMaster//Event Calendar 2.0//EN
METHOD:PUBLISH
X-PUBLISHED-TTL:P3D
REFRESH-INTERVAL:P3D
CALSCALE:GREGORIAN
BEGIN:VEVENT
DTSTART:20150815T180000Z
DTEND:20150815T230000Z
X-MICROSOFT-CDO-ALLDAYEVENT:FALSE
SUMMARY:Aloha Saturday!
DESCRIPTION:Join us in this great community celebration!  Shuttles will run between  Uwajimaya and the Red Lion\, The Landing \, McLendon Hardware and Viet Wah in the Highlands with Polynesian entertainment at each stop.  Get your passport stamped to win a trip  for two to Hawaii on Alaska Airlines and stay at the Outrigger Waikiki Beach Resort for 5 days!
X-ALT-DESC;FMTTYPE=text/html:Join us in this great community&nbsp\;celebration! &nbsp\;Shuttles will run&nbsp\;between&nbsp\;&nbsp\;Uwajimaya and the Red Lion\, The Landing \, McLendon Hardware and Viet Wah in the Highlands&nbsp\;with Polynesian&nbsp\;entertainment at each stop. &nbsp\;Get your passport stamped to win a trip &nbsp\;for two to Hawaii on Alaska Airlines and stay at the Outrigger Waikiki Beach Resort for 5 days!
LOCATION:Various venues.
UID:e.16.2859
SEQUENCE:3
DTSTAMP:20260420T091219Z
URL:http://devgorenton.chambermaster.com/events/details/aloha-saturday-08-15-2015-2859
END:VEVENT

END:VCALENDAR
