BEGIN:VCALENDAR
VERSION:2.0
PRODID:-//ChamberMaster//Event Calendar 2.0//EN
METHOD:PUBLISH
X-PUBLISHED-TTL:P3D
REFRESH-INTERVAL:P3D
CALSCALE:GREGORIAN
BEGIN:VEVENT
DTSTART:20160318T010000Z
DTEND:20160318T040000Z
X-MICROSOFT-CDO-ALLDAYEVENT:FALSE
SUMMARY:Adv. Instrument: Approach Course - March 2016
DESCRIPTION:Class Dates:\n\nWed & Thur\n\nMarch 16 & 17\n\n6:00 PM - 9:00 PM\n\n\n\nCourse Description:\n\nAre you in need of help with your approaches? Never Fear! Our instructor is the best in the business\, and has specifically designed this course to help you simplify and breakdown the instrument procedures into easy understandable steps.\n\n\n\nCome learn how to:\n\n-Read complex approach charts\, rapidly\, and accurately.\n\n-Master sequence control during the approach.\n\n-Techniques to lower the approach workload.\n\n-Avoid dangerous approach traps.\n\n\n\nBy taking this 6 hour training module\, you will complete one module of the Advanced Instrument Course. A certificate is awarded for each module and upon completion of all modules an Advanced Instrument Course diploma will be awarded. (Note all Advanced Instrument Modules are approved for the FAA Wings program)\n\n\n\nCourse Fee: $125.00\n\n\n\nAbout the instructor:\n\nCourse developed and taught by Spence Campbell\; an instrument training specialist. He is the recipient of the 1999 FSDO FAA Instructor of the Year Award\, a Gold Seal Instructor\, and an FAA Safety Instructor. He has given thousands of hours of flight\, simulator\, and classroom instruction. He has developed simplified techniques to facilitate learning instrument procedures. Around here he is known as the "instrument training guru." Spence constantly strives to maintain the highest quality instruction for his students. He is co-owner of Aviation Training Center\n\n\n \n  281\n  \n   7772400\n   10058400\n  \n  259\n  261\n  257\n  276\n  262\n  279\n  1\n  0``````````````````````\n  5\n  False\n  1\n  0\n  285\n \n \n  282\n  True\n  1\n  False\n  0\n  0\n  0\n  0\n \n \n  \n   \n    \n     -1\n    \n   \n  \n  304800\n  243\n  3175\n  3175\n  70\n  True\n  True\n  True\n \n \n  278\n  \n   134217728\n  \n \n \n  1\n  \n   \n    1\n    -9999996.000000\n    -9999996.000000\n   \n  \n \n \n  8\n  \n   Empty\n   \n    255\n   \n   \n    16764006\n   \n   \n    32768\n   \n   \n    13421772\n   \n   \n    8388608\n   \n   \n    10027110\n   \n   \n    16777215\n   \n  \n  37\n  Parrot\n \n \n \n\n \n  \n   22860000\n   22860000\n  \n  (`@`````````\n  266\n  263\n  5\n  \n   110185200\n   110185200\n  \n \n\n \n  \n  \n   \n   \n   \n   \n   \n  \n  \n  \n  \n  \n \n  \n \n\nIf interested:\n\nCall (425) 271-1930\n\nor email atc@atcseattle.com
X-ALT-DESC;FMTTYPE=text/html:<strong>Class Dates:</strong><br />\nWed &amp\; Thur<br />\nMarch 16 &amp\; 17<br />\n6:00 PM - 9:00 PM<br />\n<br />\n<strong>Course Description:</strong><br />\nAre you in need of help with your approaches? Never Fear! Our instructor is the best in the business\, and has specifically designed this course to help you simplify and breakdown the instrument procedures into easy understandable steps.<br />\n<br />\nCome learn how to:<br />\n-Read complex approach charts\, rapidly\, and accurately.<br />\n-Master sequence control during the approach.<br />\n-Techniques to lower the approach workload.<br />\n-Avoid dangerous approach traps.<br />\n<br />\nBy taking this 6 hour training module\, you will complete one module of the Advanced Instrument Course. A certificate is awarded for each module and upon completion of all modules an Advanced Instrument Course diploma will be awarded. (Note all Advanced Instrument Modules are approved for the FAA Wings program)<br />\n<br />\n<strong>Course Fee:</strong> $125.00<br />\n<br />\n<strong>About the instructor:</strong><br />\nCourse developed and taught by Spence Campbell\; an instrument training specialist. He is the recipient of the 1999 FSDO FAA Instructor of the Year Award\, a Gold Seal Instructor\, and an FAA Safety Instructor. He has given thousands of hours of flight\, simulator\, and classroom instruction. He has developed simplified techniques to facilitate learning instrument procedures. Around here he is known as the &quot\;instrument training guru.&quot\; Spence constantly strives to maintain the highest quality instruction for his students. He is co-owner of Aviation Training Center<br />\n<!--[if pub]><xml>\n <b:Publication type="OplPub" oty="68" oh="256">\n  <b:OhPrintBlock priv="30E">281</b:OhPrintBlock>\n  <b:DptlPageDimensions type="OplPt" priv="1211">\n   <b:Xl priv="104">7772400</b:Xl>\n   <b:Yl priv="204">10058400</b:Yl>\n  </b:DptlPageDimensions>\n  <b:OhGallery priv="180E">259</b:OhGallery>\n  <b:OhFancyBorders priv="190E">261</b:OhFancyBorders>\n  <b:OhCaptions priv="1A0E">257</b:OhCaptions>\n  <b:OhQuillDoc priv="200E">276</b:OhQuillDoc>\n  <b:OhMailMergeData priv="210E">262</b:OhMailMergeData>\n  <b:OhColorScheme priv="220E">279</b:OhColorScheme>\n  <b:DwNextUniqueOid priv="2304">1</b:DwNextUniqueOid>\n  <b:IdentGUID priv="2A07">0``````````````````````</b:IdentGUID>\n  <b:DpgSpecial priv="2C03">5</b:DpgSpecial>\n  <b:FWorkpaneVisible priv="3900">False</b:FWorkpaneVisible>\n  <b:CTimesEdited priv="3C04">1</b:CTimesEdited>\n  <b:NuDefaultUnitsEx priv="4104">0</b:NuDefaultUnitsEx>\n  <b:OhImpositionEngine priv="440E">285</b:OhImpositionEngine>\n </b:Publication>\n <b:PrinterInfo type="OplPrb" oty="75" oh="281">\n  <b:OhColorSepBlock priv="30E">282</b:OhColorSepBlock>\n  <b:FKOBlackFills priv="A00">True</b:FKOBlackFills>\n  <b:OpmOutsidePrintMode priv="B04">1</b:OpmOutsidePrintMode>\n  <b:FInitComplete priv="1400">False</b:FInitComplete>\n  <b:DpiX priv="2203">0</b:DpiX>\n  <b:DpiY priv="2303">0</b:DpiY>\n  <b:DxlOverlap priv="2404">0</b:DxlOverlap>\n  <b:DylOverlap priv="2504">0</b:DylOverlap>\n </b:PrinterInfo>\n <b:ColorSeperationInfo type="OplCsb" oty="79" oh="282">\n  <b:Plates type="OplCsp" priv="214">\n   <b:OplCsp type="OplCsp" priv="11">\n    <b:EcpPlate type="OplEcp" priv="213">\n     <b:Color priv="104">-1</b:Color>\n    </b:EcpPlate>\n   </b:OplCsp>\n  </b:Plates>\n  <b:DzlOverprintMost priv="304">304800</b:DzlOverprintMost>\n  <b:CprOverprintMin priv="404">243</b:CprOverprintMin>\n  <b:DzlTrap priv="C04">3175</b:DzlTrap>\n  <b:DzlIndTrap priv="D04">3175</b:DzlIndTrap>\n  <b:PctCenterline priv="E04">70</b:PctCenterline>\n  <b:FMarksRegistration priv="F00">True</b:FMarksRegistration>\n  <b:FMarksJob priv="1000">True</b:FMarksJob>\n  <b:FMarksDensity priv="1100">True</b:FMarksDensity>\n </b:ColorSeperationInfo>\n <b:TextDocProperties type="OplDocq" oty="91" oh="276">\n  <b:OhPlcqsb priv="20E">278</b:OhPlcqsb>\n  <b:EcpSplitMenu type="OplEcp" priv="A13">\n   <b:Color>134217728</b:Color>\n  </b:EcpSplitMenu>\n </b:TextDocProperties>\n <b:StoryBlock type="OplPlcQsb" oty="101" oh="278">\n  <b:IqsbMax priv="104">1</b:IqsbMax>\n  <b:Rgqsb type="OplQsb" priv="214">\n   <b:OplQsb type="OplQsb" priv="11">\n    <b:Qsid priv="104">1</b:Qsid>\n    <b:TomfCopyfitBase priv="80B">-9999996.000000</b:TomfCopyfitBase>\n    <b:TomfCopyfitBase2 priv="90B">-9999996.000000</b:TomfCopyfitBase2>\n   </b:OplQsb>\n  </b:Rgqsb>\n </b:StoryBlock>\n <b:ColorScheme type="OplSccm" oty="92" oh="279">\n  <b:Cecp priv="104">8</b:Cecp>\n  <b:Rgecp type="OplEcp" priv="214">\n   <b:OplEcp priv="F">Empty</b:OplEcp>\n   <b:OplEcp type="OplEcp" priv="111">\n    <b:Color>255</b:Color>\n   </b:OplEcp>\n   <b:OplEcp type="OplEcp" priv="211">\n    <b:Color>16764006</b:Color>\n   </b:OplEcp>\n   <b:OplEcp type="OplEcp" priv="311">\n    <b:Color>32768</b:Color>\n   </b:OplEcp>\n   <b:OplEcp type="OplEcp" priv="411">\n    <b:Color>13421772</b:Color>\n   </b:OplEcp>\n   <b:OplEcp type="OplEcp" priv="511">\n    <b:Color>8388608</b:Color>\n   </b:OplEcp>\n   <b:OplEcp type="OplEcp" priv="611">\n    <b:Color>10027110</b:Color>\n   </b:OplEcp>\n   <b:OplEcp type="OplEcp" priv="711">\n    <b:Color>16777215</b:Color>\n   </b:OplEcp>\n  </b:Rgecp>\n  <b:IScheme priv="304">37</b:IScheme>\n  <b:SzSchemeName priv="618">Parrot</b:SzSchemeName>\n </b:ColorScheme>\n <![if pub11]>\n <![endif]>\n</xml><![endif]--><!--[if pub]><xml>\n <b:Page type="OplPd" oty="67" oh="265">\n  <b:PtlvOrigin type="OplPt" priv="511">\n   <b:Xl>22860000</b:Xl>\n   <b:Yl>22860000</b:Yl>\n  </b:PtlvOrigin>\n  <b:Oid priv="605">(`@`````````</b:Oid>\n  <b:OhoplWebPageProps priv="90E">266</b:OhoplWebPageProps>\n  <b:OhpdMaster priv="D0D">263</b:OhpdMaster>\n  <b:PgtType priv="1004">5</b:PgtType>\n  <b:PtlvOriginEx type="OplPt" priv="1111">\n   <b:Xl>110185200</b:Xl>\n   <b:Yl>110185200</b:Yl>\n  </b:PtlvOriginEx>\n </b:Page>\n</xml><![endif]--><!--[if gte mso 9]><xml>\n <o:shapedefaults v:ext="edit" spidmax="3075" fillcolor="red [1]"\n  strokecolor="black [0]">\n  <v:fill color="red [1]" color2="white [7]"/>\n  <v:stroke color="black [0]" color2="white [7]" weight="2pt">\n   <o:left v:ext="view" color="black [0]" color2="white [7]"/>\n   <o:top v:ext="view" color="black [0]" color2="white [7]"/>\n   <o:right v:ext="view" color="black [0]" color2="white [7]"/>\n   <o:bottom v:ext="view" color="black [0]" color2="white [7]"/>\n   <o:column v:ext="view" color="black [0]" color2="white [7]"/>\n  </v:stroke>\n  <v:shadow color="black [0]"/>\n  <o:extrusion v:ext="view" backdepth="0" viewpoint="0\,0" viewpointorigin="0\,0"/>\n  <v:textbox inset="2.88pt\,2.88pt\,2.88pt\,2.88pt"/>\n  <o:colormenu v:ext="edit" fillcolor="red [1]" strokecolor="black [0]"\n   shadowcolor="#ccc [4]"/>\n </o:shapedefaults><o:shapelayout v:ext="edit">\n  <o:idmap v:ext="edit" data="1"/>\n </o:shapelayout></xml><![endif]--><br />\n<em>If interested:<br />\nCall (425) 271-1930<br />\nor email atc@atcseattle.com</em>
LOCATION:Aviation Training Center 289 E Perimeter Rd\, Third Floor Renton\, WA 98057
UID:e.16.3140
SEQUENCE:3
DTSTAMP:20260421T235747Z
URL:http://devgorenton.chambermaster.com/events/details/adv-instrument-approach-course-march-2016-03-17-2016-3140
END:VEVENT

END:VCALENDAR
