BEGIN:VCALENDAR
VERSION:2.0
PRODID:-//ChamberMaster//Event Calendar 2.0//EN
METHOD:PUBLISH
X-PUBLISHED-TTL:P3D
REFRESH-INTERVAL:P3D
CALSCALE:GREGORIAN
BEGIN:VEVENT
DTSTART:20141113T010000Z
DTEND:20141113T023000Z
X-MICROSOFT-CDO-ALLDAYEVENT:FALSE
SUMMARY:Accessing Capital Workshop
DESCRIPTION:Accessing Capital WorkshopDiscover ways to finance your business and learn about sources of capital. Hear from experts on options from bootstrapping to crowdfunding to angel investment. Confirmed speakers include: Cathi Hatch\, Founder & CEO\, ZINO Society\; Asbury Lockett\, Certified Business Advisor\, Small Business Development Center\; Susan Preston\, General Partner\, CalCEF Clean Energy Angel Fund\; TBD\, Madrona Venture Partners.
X-ALT-DESC;FMTTYPE=text/html:Accessing Capital Workshop<em style="margin: 0px\; padding: 0px\; border: 0px\; outline: 0px\; font-size: 11px\; vertical-align: baseline\; font-family: Helvetica\, 'Lucida Sans Unicode'\, verdana\, geneva\, sans-serif\; line-height: 13.1999998092651px\; background: rgb(255\, 255\, 255)\;">Discover</em><em style="margin: 0px\; padding: 0px\; border: 0px\; outline: 0px\; font-size: 11px\; vertical-align: baseline\; font-family: Helvetica\, 'Lucida Sans Unicode'\, verdana\, geneva\, sans-serif\; line-height: 13.1999998092651px\; background: rgb(255\, 255\, 255)\;"> ways to finance your business and learn about sources of capital. Hear from experts on options from bootstrapping to crowdfunding to angel investment.&nbsp\;<span style="margin: 0px\; padding: 0px\; border: 0px\; outline: 0px\; vertical-align: baseline\; text-decoration: underline\; background: transparent\;">Confirmed speakers include</span>:&nbsp\;<strong style="margin: 0px\; padding: 0px\; border: 0px\; outline: 0px\; vertical-align: baseline\; background: transparent\;">Cathi Hatch</strong>\, Founder &amp\; CEO\, ZINO Society\;&nbsp\;<strong style="margin: 0px\; padding: 0px\; border: 0px\; outline: 0px\; vertical-align: baseline\; background: transparent\;">Asbury Lockett</strong>\, Certified Business Advisor\, Small Business&nbsp\;Development Center\;</em><span style="font-family: Helvetica\, 'Lucida Sans Unicode'\, verdana\, geneva\, sans-serif\; font-size: 11px\; line-height: 13.1999998092651px\; background-color: rgb(255\, 255\, 255)\;">&nbsp\;</span><em style="margin: 0px\; padding: 0px\; border: 0px\; outline: 0px\; font-size: 11px\; vertical-align: baseline\; font-family: Helvetica\, 'Lucida Sans Unicode'\, verdana\, geneva\, sans-serif\; line-height: 13.1999998092651px\; background: rgb(255\, 255\, 255)\;"><strong style="margin: 0px\; padding: 0px\; border: 0px\; outline: 0px\; vertical-align: baseline\; background: transparent\;">Susan Preston</strong>\, General Partner\, CalCEF Clean Energy Angel Fund\;</em><span style="font-family: Helvetica\, 'Lucida Sans Unicode'\, verdana\, geneva\, sans-serif\; font-size: 11px\; line-height: 13.1999998092651px\; background-color: rgb(255\, 255\, 255)\;">&nbsp\;</span><em style="margin: 0px\; padding: 0px\; border: 0px\; outline: 0px\; font-size: 11px\; vertical-align: baseline\; font-family: Helvetica\, 'Lucida Sans Unicode'\, verdana\, geneva\, sans-serif\; line-height: 13.1999998092651px\; background: rgb(255\, 255\, 255)\;"><strong style="margin: 0px\; padding: 0px\; border: 0px\; outline: 0px\; vertical-align: baseline\; background: transparent\;">TBD</strong>\, Madrona Venture Partners.&nbsp\;</em>
LOCATION:Renton Chamber of Commerce 6255 4th st Renton Wa 98057
UID:e.16.2757
SEQUENCE:3
DTSTAMP:20260423T211618Z
URL:http://devgorenton.chambermaster.com/events/details/accessing-capital-workshop-11-12-2014-2757
END:VEVENT

END:VCALENDAR
