BEGIN:VCALENDAR
VERSION:2.0
PRODID:-//ChamberMaster//Event Calendar 2.0//EN
METHOD:PUBLISH
X-PUBLISHED-TTL:P3D
REFRESH-INTERVAL:P3D
CALSCALE:GREGORIAN
BEGIN:VEVENT
DTSTART:20150923T020000Z
DTEND:20150923T030000Z
X-MICROSOFT-CDO-ALLDAYEVENT:FALSE
SUMMARY:A Journey into Value Systems - Social Values
DESCRIPTION:A Journey into Value Systems - Social Values\n\n\n	Guess Danielle Thompson and host Keith Thompson will discuss the use of social media to generate potential clients into your business.\n\n\nSeptember 22\, 2015 from 7:00 to 8:00 PM Pacific Daylight Saving Time\;  Mountain Daylight Saving Time 9:00   10:00 PM\n\nMeeting ID: 30364174\n\nJoin Online Meeting: http://fuze.me/30364174\n\nJoin by phone:\n\nDial phone number and enter the Meeting ID when prompted\n\n- Toll: +1 201-479-4595
X-ALT-DESC;FMTTYPE=text/html:<h1><span style="color:windowtext">A Journey into Value Systems - Social Values</span></h1>\n\n<ul>\n	<li><span style="font-size:12px"><strong>Guess Danielle Thompson and host Keith Thompson will discuss the use of social media to generate potential clients into your business.</strong></span></li>\n</ul>\n\n<p><span style="color:rgb(31\, 73\, 125)">September 22</span>\, 2015 from 7:00 to 8:00 PM Pacific Daylight Saving Time\;&nbsp\; Mountain Daylight Saving Time 9:00 &ndash\; 10:00 PM</p>\n\n<h1>Meeting ID:&nbsp\;<span style="font-family:arial\,sans-serif">30364174</span></h1>\n\n<h1>Join Online Meeting:&nbsp\;<span style="font-family:arial\,sans-serif\; font-size:11pt"><a href="http://fuze.me/30364174" rel="nofollow" style="color: rgb(15\, 144\, 186)\; text-decoration: none\;">http://fuze.me/30364174</a></span></h1>\n\n<p>Join by phone:</p>\n\n<p>Dial phone number and enter the Meeting ID when prompted</p>\n\n<p>- Toll: +1 201-479-4595</p>\n
LOCATION:Online or by phone
UID:e.16.2872
SEQUENCE:3
DTSTAMP:20260420T091218Z
URL:http://devgorenton.chambermaster.com/events/details/a-journey-into-value-systems-social-values-09-22-2015-2872
END:VEVENT

END:VCALENDAR
