BEGIN:VCALENDAR
VERSION:2.0
PRODID:-//ChamberMaster//Event Calendar 2.0//EN
METHOD:PUBLISH
X-PUBLISHED-TTL:P3D
REFRESH-INTERVAL:P3D
CALSCALE:GREGORIAN
BEGIN:VEVENT
DTSTART:20250322T180000Z
DTEND:20250322T220000Z
X-MICROSOFT-CDO-ALLDAYEVENT:FALSE
SUMMARY:2025 Renton Home Show
DESCRIPTION:Your Home\, Your Vision Find the Experts to Make It Happen!\n\n\n\nJoin us for the 2025 Renton Home Show\, presented by the Renton Chamber of Commerce\, in partnership with the Rosie Rourke Team and BizX! This is your chance to connect with top local contractors\, electricians\, painters\, flooring specialists\, interior designers\, and more all in one place.\n\n\n\nWhether you're planning a small update or a major renovation\, meet trusted professionals who can help bring your ideas to life. Get expert advice\, explore the latest trends\, and discover local businesses ready to serve Renton homeowners\, renters\, and business owners alike.\n\n\n\nDon't miss this exciting opportunity to plan your next project\, support local businesses\, and take the first step toward your dream home. See you there!\n\n\n\nREGISTER HERE
X-ALT-DESC;FMTTYPE=text/html:<strong>Your Home\, Your Vision&mdash\;Find the Experts to Make It Happen!</strong><br />\n<br />\nJoin us for the 2025 Renton Home Show\, presented by the Renton Chamber of Commerce\, in partnership with the Rosie Rourke Team and BizX! This is your chance to connect with top local contractors\, electricians\, painters\, flooring specialists\, interior designers\, and more&mdash\;all in one place.<br />\n<br />\nWhether you&#39\;re planning a small update or a major renovation\, meet trusted professionals who can help bring your ideas to life. Get expert advice\, explore the latest trends\, and discover local businesses ready to serve Renton homeowners\, renters\, and business owners alike.<br />\n<br />\nDon&rsquo\;t miss this exciting opportunity to plan your next project\, support local businesses\, and take the first step toward your dream home. See you there!<br />\n<br />\n<a href="https://gorenton.ejoinme.org/MyEvents/2025RosieRourkeTeamRentonHomeShow/Tickets/tabid/1520535/Default.aspx"><strong>REGISTER HERE</strong></a>
LOCATION:Renton Technical College 3000 NE 4th St\, Renton
UID:e.16.27520
SEQUENCE:3
DTSTAMP:20260425T153118Z
URL:http://devgorenton.chambermaster.com/events/details/2025-renton-home-show-27520
END:VEVENT

END:VCALENDAR
