BEGIN:VCALENDAR
VERSION:2.0
PRODID:-//ChamberMaster//Event Calendar 2.0//EN
METHOD:PUBLISH
X-PUBLISHED-TTL:P3D
REFRESH-INTERVAL:P3D
CALSCALE:GREGORIAN
BEGIN:VEVENT
DTSTART:20170202T000000Z
DTEND:20170202T010000Z
X-MICROSOFT-CDO-ALLDAYEVENT:FALSE
SUMMARY:2017 Business and Education Exchange Kick Off
DESCRIPTION:Business leaders are matched with Renton school administrators and teachers\, they spend time at each others place of work. Great partnerships between education and business have started through this program.\n\n\n\n Teams are encouraged to answer the following questions about their experience.\n\n\n\n  What are your most significant observations from your exchange visit?\n\n  What significant observations do you think your partner came away with?\n\n  What successes are evident in my partners business or classroom?\n\n  What challenges does my partner face in business or the classroom?\n\n  What are the major differences or similarities in or workplaces/workdays?\n\n  How can we work together in the future for our kids and our community? \n\n \n\nTHANK YOU TO OUR SPONSORS FIRST FINANCIAL NORTHWEST BANK AND COLUMBIA BANK!
X-ALT-DESC;FMTTYPE=text/html:<div><span style="font-family:arial\;"><span style="font-size:12.0pt\;">Business leaders are matched with Renton school administrators and teachers\, they&nbsp\;spend time at each others place of work. Great partnerships between education and business have&nbsp\;started through this program.<br />\n<br />\n&#8203\;Teams are encouraged to answer the following questions about their experience.</span></span><br />\n<br />\n<span style="direction:&#10\;unicode-bidi:embed\;language:x-none\;"><span style="color:black\;"><span style="font-size:10.0pt\;"><span style="font-family:symbol\;">&middot\;</span></span></span></span>&nbsp\;<span style="font-style:&#10\;language:en-US\;"><span style="font-family:arial\;"><span style="font-size:12.0pt\;">What are your most significant observations from your exchange visit?</span></span></span><br />\n<span style="direction:&#10\;unicode-bidi:embed\;language:x-none\;"><span style="color:black\;"><span style="font-size:10.0pt\;"><span style="font-family:symbol\;">&middot\;</span></span></span></span>&nbsp\;<span style="font-style:&#10\;language:en-US\;"><span style="font-family:arial\;"><span style="font-size:12.0pt\;">What significant observations do you think your partner came away with?</span></span></span><br />\n<span style="direction:&#10\;unicode-bidi:embed\;language:x-none\;"><span style="color:black\;"><span style="font-size:10.0pt\;"><span style="font-family:symbol\;">&middot\;</span></span></span></span>&nbsp\;<span style="font-style:&#10\;language:en-US\;"><span style="font-family:arial\;"><span style="font-size:12.0pt\;">What successes are evident in my partners business or classroom?</span></span></span><br />\n<span style="direction:&#10\;unicode-bidi:embed\;language:x-none\;"><span style="color:black\;"><span style="font-size:10.0pt\;"><span style="font-family:symbol\;">&middot\;</span></span></span></span>&nbsp\;<span style="font-style:&#10\;language:en-US\;"><span style="font-family:arial\;"><span style="font-size:12.0pt\;">What challenges does my partner face in business or the classroom?</span></span></span><br />\n<span style="direction:&#10\;unicode-bidi:embed\;language:x-none\;"><span style="color:black\;"><span style="font-size:10.0pt\;"><span style="font-family:symbol\;">&middot\;</span></span></span></span>&nbsp\;<span style="font-style:&#10\;language:en-US\;"><span style="font-family:arial\;"><span style="font-size:12.0pt\;">What are the major differences or similarities in or workplaces/workdays?</span></span></span><br />\n<span style="direction:&#10\;unicode-bidi:embed\;language:x-none\;"><span style="color:black\;"><span style="font-size:10.0pt\;"><span style="font-family:symbol\;">&middot\;</span></span></span></span>&nbsp\;<span style="font-style:&#10\;language:en-US\;"><span style="font-family:arial\;"><span style="font-size:12.0pt\;">How can we work together in the future for our kids and our community? </span></span></span><br />\n&nbsp\;<br />\nTHANK YOU TO OUR SPONSORS <strong>FIRST FINANCIAL NORTHWEST BANK</strong> AND <strong>COLUMBIA BANK</strong>!<br />\n<br />\n&nbsp\;</div>\n
LOCATION:Renton School District Board Room
UID:e.16.4699
SEQUENCE:3
DTSTAMP:20260422T002556Z
URL:http://devgorenton.chambermaster.com/events/details/2017-business-and-education-exchange-kick-off-4699
END:VEVENT

END:VCALENDAR
