BEGIN:VCALENDAR
VERSION:2.0
PRODID:-//ChamberMaster//Event Calendar 2.0//EN
METHOD:PUBLISH
X-PUBLISHED-TTL:P3D
REFRESH-INTERVAL:P3D
CALSCALE:GREGORIAN
BEGIN:VEVENT
DTSTART:20150327T143000Z
DTEND:20150327T160000Z
X-MICROSOFT-CDO-ALLDAYEVENT:FALSE
SUMMARY:2015 March Networking Breakfast
DESCRIPTION:Gold Sponsor:  Morningstar Creative Group \n\nSpeaker: Brad Worthley\n\n \n\nBrad Worthley is an accomplished business consultant with over 37 years of management experience. He is also an internationally acclaimed leadership\, customer service and motivational expert who has trained hundreds of thousands of people in a wide range of industries throughout the world in the last 20 years. He has authored three books and produced numerous training videos and audio programs.\n\nAs a world-wide keynote speaker and trainer\, Brad is always the highest rated speaker at any event he speaks at because his content is not only innovative and incredibly powerful\, but delivered with passion\, enthusiasm and humor. His presentations have been called "shows" by many and the attendees always ask "when will he be back".\n\n \n\nTopic:  Exceeding Customer Expectations" (Voted top 2 Keynotes in the World)\n\nThis session was voted one of the top two keynotes in the world by the Meeting Professionals International Association in 2011. Businesses can no longer have the goal of meeting the customer's expectations\; the goal today must be to exceed them. Brad will entertain you with great stories and hilarious examples of businesses that step out of the box and find ways to "Wow" the customer.  This session is targeted to anyone\, from any industry\, at any level.  Some of the topics covered will include:\n\n \n\nThree Customer Levels\n\nCreating Emotional Attachment\n\nPerception Becomes the Customer's Reality\n\nThe Three Levels of Listening\n\nUsing Pedestal Words\n\nHow People Judge Us \n\n \n\nIf you want to learn more about Brad go to www.bradworthley.com or watch the attached video about how Brad used his business strategy to save his wife's life. 3\n\nRebecca Osman\, founder of Your Stage Coach\, translates Theatre lessons into Life and Business lessons to improve communication\, presentation & leadership skills.  Rebecca draws on over 25 years of experience and training as a performer\, director\, and educator to help others be at their best in front of their audiences large or small. Her classes and individual coaching empower business people to present their ideas and themselves with confidence and clarity so that people believe and trust them\, have confidence in them and get to "Yes!" faster.  \n\nTo learn more about Rebecca Osman\, visit her website at YourStageCoach.com.\n\n \n\nGold Sponsor:  Morningstar Creative Group\n\nBrian Morris is our speaker this month\, his Topic "Photography is the new Language of Life and Business.\n\n \n\n \n\nRebecca Osman\, founder of Your Stage Coach\, translates Theatre lessons into Life and Business lessons to improve communication\, presentation & leadership skills.  Rebecca draws on over 25 years of experience and training as a performer\, director\, and educator to help others be at their best in front of their audiences large or small. Her classes and individual coaching empower business people to present their ideas and themselves with confidence and clarity so that people believe and trust them\, have confidence in them and get to "Yes!" faster.  \n\nTo learn more about Rebecca Osman\, visit her website at YourStageCoach.com.
X-ALT-DESC;FMTTYPE=text/html:<p><font size="3"><span style="font-size: 16px\;"><strong><span _fck_bookmark="1" style="display: none\;">&nbsp\;</span><span _fck_bookmark="1" style="display: none\;">&nbsp\;</span></strong></span></font><span style="font-size: 12px\;"><span style="font-family: arial\;"><span _fck_bookmark="1" style="display: none\;">&nbsp\;</span><span _fck_bookmark="1" style="display: none\;"><strong><span style="font-size: 12pt\;"><span style="color: rgb(34\, 34\, 34)\;"><span style="font-family: arial\, sans-serif\;">Gold Sponsor:&nbsp\; Morningstar Creative Group </span></span></span></strong><br />\n<strong><span style="font-size: 10.5pt\;"><span style="color: rgb(34\, 34\, 34)\;"><span style="font-family: arial\, sans-serif\;">Speaker: Brad Worthley</span></span></span></strong><br />\n&nbsp\;<br />\n<span style="font-size: 9pt\;"><span style="color: rgb(34\, 34\, 34)\;"><span style="font-family: arial\, sans-serif\;">Brad Worthley is an accomplished business consultant with over 37 years of management experience. He is also an internationally acclaimed leadership\, customer service and motivational expert who has trained hundreds of thousands of people in a wide range of industries throughout the world in the last 20 years. He has authored three books and produced numerous training videos and audio programs.<br />\nAs a world-wide keynote speaker and trainer\, Brad is always the highest rated speaker at any event he speaks at because his content is not only innovative and incredibly powerful\, but delivered with passion\, enthusiasm and humor. His presentations have been called &ldquo\;shows&rdquo\; by many and the attendees always ask &ldquo\;when will he be back&rdquo\;.</span></span></span><br />\n&nbsp\;<br />\n<strong><span style="font-size: 9pt\;"><span style="color: rgb(34\, 34\, 34)\;"><span style="font-family: arial\, sans-serif\;">Topic:&nbsp\; <span style="letter-spacing: -0.2pt\;">Exceeding Customer Expectations&rdquo\; (Voted top 2 Keynotes in the World)</span></span></span></span></strong><br />\n<span style="font-size: 9pt\;"><span style="color: rgb(34\, 34\, 34)\;"><span style="font-family: arial\, sans-serif\;">This session was voted one of the top two keynotes in the world by the Meeting Professionals International Association in 2011. Businesses can no longer have the goal of meeting the customer&rsquo\;s expectations\; the goal today must be to exceed them. Brad will entertain you with great stories and hilarious examples of businesses that step out of the box and find ways to &ldquo\;Wow&rdquo\; the customer.&nbsp\; </span></span></span><span style="font-size: 9pt\;"><span style="color: black\;"><span style="font-family: arial\, sans-serif\;">This session is t</span></span></span><span style="font-size: 9pt\;"><span style="color: rgb(34\, 34\, 34)\;"><span style="font-family: arial\, sans-serif\;">argeted to anyone\, from any industry\, at any level.&nbsp\; Some of the topics covered will include:</span></span></span><br />\n&nbsp\;<br />\n<span style="font-size: 9pt\;"><span style="color: rgb(34\, 34\, 34)\;"><span style="font-family: arial\, sans-serif\;">Three Customer Levels<br />\nCreating Emotional Attachment<br />\nPerception Becomes the Customer&#39\;s Reality<br />\nThe Three Levels of Listening<br />\nUsing Pedestal Words<br />\nHow People Judge Us </span></span></span><br />\n&nbsp\;<br />\n<span style="font-size: 9pt\;"><span style="color: rgb(34\, 34\, 34)\;"><span style="font-family: arial\, sans-serif\;">If you want to learn more about Brad go to <a href="http://www.bradworthley.com/"><span style="color: blue\;">www.bradworthley.com</span></a></span> or watch the attached video about how Brad used his business strategy to save his wife&#39\;s life.&nbsp\;3</span></span></span></span></span></p>\n\n<h4 style="margin: 12pt 0in 3pt\;"><span style="font-size: 12px\;"><span style="font-family: arial\;"><span _fck_bookmark="1" style="display: none\;"><span style="font-size: 9pt\;"><span style="color: rgb(34\, 34\, 34)\;"><span style="font-weight: normal\;"><span style="font-size: 11pt\;"><span style="color: rgb(30\, 30\, 30)\;"><span style="font-family: arial\, sans-serif\;">Rebecca Osman\, founder of Your Stage Coach\, translates Theatre lessons into Life and Business lessons to improve communication\, presentation &amp\; leadership skills.&nbsp\; Rebecca draws on over 25 years of experience and training as a performer\, director\, and educator to help others be at their best in front of </span></span></span></span><em><span style="font-weight: normal\;"><span style="font-size: 11pt\;"><span style="color: rgb(30\, 30\, 30)\;">their</span></span></span></em><span style="font-weight: normal\;"><span style="font-size: 11pt\;"><span style="color: rgb(30\, 30\, 30)\;"><span style="font-family: arial\, sans-serif\;"> audiences&mdash\;large or small.&nbsp\;Her classes and individual coaching empower business people to present their ideas and themselves with confidence and clarity so that people believe and trust them\, have confidence in them and get to &ldquo\;Yes!&rdquo\; faster.&nbsp\; </span></span></span></span></span></span></span></span></span></h4>\n\n<h4 style="margin: 12pt 0in 3pt\;"><span style="font-size: 12px\;"><span style="font-family: arial\;"><span _fck_bookmark="1" style="display: none\;"><span style="font-size: 9pt\;"><span style="color: rgb(34\, 34\, 34)\;"><span style="font-weight: normal\;"><span style="font-size: 11pt\;"><span style="color: rgb(30\, 30\, 30)\;"><span style="font-family: arial\, sans-serif\;">To learn more about Rebecca Osman\, visit her website at YourStageCoach.com.</span></span></span></span></span></span></span></span></span></h4>\n\n<p><span style="font-size: 12px\;"><span style="font-family: arial\;"><span _fck_bookmark="1" style="display: none\;"><span style="font-size: 9pt\;"><span style="color: rgb(34\, 34\, 34)\;">&nbsp\;</span></span></span></span><br />\n<span style="font-size: 16px\;"><strong>Gold Sponsor:&nbsp\; Morningstar Creative Group</strong><br />\nBrian Morris is our speaker&nbsp\;this month\, his Topic <strong><em>&quot\;Photography is the new Language of Life and Business.</em></strong></span></span></p>\n\n<p>&nbsp\;<br />\n&nbsp\;</p>\n\n<h4 style="margin: 12pt 0in 3pt\;"><span style="font-size: 12px\;"><span style="font-family: arial\;"><span _fck_bookmark="1" style="display: none\;"><span style="font-size: 9pt\;"><span style="color: rgb(34\, 34\, 34)\;"><span style="font-weight: normal\;"><span style="font-size: 11pt\;"><span style="color: rgb(30\, 30\, 30)\;"><span style="font-family: arial\, sans-serif\;">Rebecca Osman\, founder of Your Stage Coach\, translates Theatre lessons into Life and Business lessons to improve communication\, presentation &amp\; leadership skills.&nbsp\; Rebecca draws on over 25 years of experience and training as a performer\, director\, and educator to help others be at their best in front of </span></span></span></span><em><span style="font-weight: normal\;"><span style="font-size: 11pt\;"><span style="color: rgb(30\, 30\, 30)\;"><span style="font-family: times new roman\;">their</span></span></span></span></em><span style="font-weight: normal\;"><span style="font-size: 11pt\;"><span style="color: rgb(30\, 30\, 30)\;"><span style="font-family: arial\, sans-serif\;"> audiences&mdash\;large or small.&nbsp\;Her classes and individual coaching empower business people to present their ideas and themselves with confidence and clarity so that people believe and trust them\, have confidence in them and get to &ldquo\;Yes!&rdquo\; faster.&nbsp\; </span></span></span></span></span></span></span></span></span></h4>\n\n<h4 style="margin: 12pt 0in 3pt\;"><span style="font-size: 12px\;"><span style="font-family: arial\;"><span _fck_bookmark="1" style="display: none\;"><span style="font-size: 9pt\;"><span style="color: rgb(34\, 34\, 34)\;"><span style="font-weight: normal\;"><span style="font-size: 11pt\;"><span style="color: rgb(30\, 30\, 30)\;"><span style="font-family: arial\, sans-serif\;">To learn more about Rebecca Osman\, visit her website at YourStageCoach.com.</span></span></span></span></span></span></span></span></span></h4>\n
LOCATION:The Lakeshore 11448 Rainier Avenue South Seattle\, WA 98178
UID:e.16.2790
SEQUENCE:3
DTSTAMP:20260423T093244Z
URL:http://devgorenton.chambermaster.com/events/details/2015-march-networking-breakfast-03-27-2015-2790
END:VEVENT

END:VCALENDAR
