BEGIN:VCALENDAR
VERSION:2.0
PRODID:-//ChamberMaster//Event Calendar 2.0//EN
METHOD:PUBLISH
X-PUBLISHED-TTL:P3D
REFRESH-INTERVAL:P3D
CALSCALE:GREGORIAN
BEGIN:VEVENT
DTSTART:20140826T143000Z
DTEND:20140826T163000Z
X-MICROSOFT-CDO-ALLDAYEVENT:FALSE
SUMMARY:2014 New Teachers Breakfast
DESCRIPTION:Presenting Sponsor: UW Medicine/Valley Medical Center\n\nSilver Sponsors:  King and Bunnys Appliance and   Wal-Mart\n\nWelcome Bag Sponsor: Renton Technical College \n\nBusiness Partner: Joann Lee and Associates\n\n                                Marriott Hotels Renton\n\nContributing Sponsor: First Savings Bank Northwest\n\n \n\nPlease join Renton community and business leaders in welcoming new teachers serving in Renton area schools. \n\nOur speaker this year is Gene Sharratt\, Instructor and Coach\n\nIn addition to his roles as an instructor and coach for the Washington State Leadership Academy\, Dr. Gene Sharratt directs the Washington State University Superintendent Certification program and is a clinical assistant professor in the Department of Educational Leadership\, College of Education at Washington State University. His research and writing interests are in leadership and student learning.\n\nPrior to joining Washington State University\, Gene was a 30-year public and private school educator\, serving in the roles of teacher\, principal\, assistant superintendent\, school superintendent\, and educational service district superintendent. This experience spanned Washington\, Alaska\, and Norway.\n\nGene is the author of the inspirational book\, Keeping on Your Feet\, and also of numerous articles in professional and research journals. His B.A. and Ph.D. were earned from Washington State University\, and his M.A. from Pacific Lutheran University. \n\nIn 1991\, he was named Washington State Superintendent of the Year. Gene and his wife Carol live in Cle Elum\, and have two grown children\, Sarah and Cayle.
X-ALT-DESC;FMTTYPE=text/html:<div><span style="font-size:14px\;"><strong>Presenting Sponsor: UW Medicine/Valley Medical Center</strong></span></div>\n\n<div><span style="font-size:14px\;"><strong style="line-height: 1.6\;">Silver Sponsors: &nbsp\;King and Bunnys Appliance and &nbsp\; Wal-Mart</strong></span></div>\n\n<div><span style="font-size:14px\;"><strong>Welcome Bag Sponsor:&nbsp\;Renton Technical College&nbsp\;<br />\nBusiness Partner:&nbsp\;Joann Lee and Associates<br />\n&nbsp\; &nbsp\; &nbsp\; &nbsp\; &nbsp\; &nbsp\; &nbsp\; &nbsp\; &nbsp\; &nbsp\; &nbsp\; &nbsp\; &nbsp\; &nbsp\; &nbsp\; &nbsp\; Marriott Hotels Renton<br />\nContributing Sponsor: First Savings Bank Northwest</strong></span><br />\n<span style="font-family: arial\; font-size: 11px\; line-height: 1.6\;">&nbsp\;</span></div>\n\n<div><span style="font-size:12px\;"><span style="font-family:arial\;">Please join Renton&nbsp\;community and business&nbsp\;leaders&nbsp\;in welcoming new teachers serving in&nbsp\;Renton area schools.&nbsp\;</span></span>\n\n<h2 style="margin: 0px 0px 0.6em\; padding: 0px\; border: none\; background-color: rgb(255\, 255\, 255)\;"><span style="font-size:12px\;"><span style="font-family:arial\;"><span style="line-height: 17px\;">Our speaker this year is&nbsp\;</span><span style="color: rgb(25\, 54\, 76)\; letter-spacing: 0.01em\;">Gene Sharratt\, Instructor and Coach</span></span></span></h2>\n\n<p style="margin: 0px 0px 1.3em\; padding: 0px\; border: none\; font-size: 1.3em\; line-height: 1.5em\; font-family: Helvetica\, Arial\, Verdana\, sans-serif\; background-color: rgb(255\, 255\, 255)\;"><span style="font-size:12px\;"><span style="font-family:arial\;">In addition to his roles as an instructor and coach for the Washington State Leadership Academy\, Dr. Gene Sharratt directs the Washington State University Superintendent Certification program and is a clinical assistant professor in the Department of Educational Leadership\, College of Education at Washington State University. His research and writing interests are in leadership and student learning.</span></span></p>\n\n<p style="margin: 0px 0px 1.3em\; padding: 0px\; border: none\; font-size: 1.3em\; line-height: 1.5em\; font-family: Helvetica\, Arial\, Verdana\, sans-serif\; background-color: rgb(255\, 255\, 255)\;"><span style="font-size:12px\;"><span style="font-family:arial\;">Prior to joining Washington State University\, Gene was a 30-year public and private school educator\, serving in the roles of teacher\, principal\, assistant superintendent\, school superintendent\, and educational service district superintendent. This experience spanned Washington\, Alaska\, and Norway.</span></span></p>\n\n<p style="margin: 0px 0px 1.3em\; padding: 0px\; border: none\; font-size: 1.3em\; line-height: 1.5em\; font-family: Helvetica\, Arial\, Verdana\, sans-serif\; background-color: rgb(255\, 255\, 255)\;"><span style="font-size:12px\;"><span style="font-family:arial\;">Gene is the author of the inspirational book\,&nbsp\;<em>Keeping on Your Feet</em>\, and also of numerous articles in professional and research journals. His B.A. and Ph.D. were earned from Washington State University\, and his M.A. from Pacific Lutheran University.&nbsp\;<br />\nIn 1991\, he was named Washington State Superintendent of the Year. Gene and his wife Carol live in Cle Elum\, and have two grown children\, Sarah and Cayle.</span></span></p>\n<br />\n<span style="font-size: 11px\;"><span _fck_bookmark="1" style="display: none\;">&nbsp\;&nbsp\;</span></span><em><span _fck_bookmark="1" style="display: none\;">&nbsp\;</span></em></div>\n<span _fck_bookmark="1" style="display: none\;">&nbsp\;</span>
LOCATION:Renton Technical College 3000 NE 4th Street Renton\, Wa 98056
UID:e.16.2701
SEQUENCE:3
DTSTAMP:20260425T182815Z
URL:http://devgorenton.chambermaster.com/events/details/2014-new-teachers-breakfast-08-26-2014-2701
END:VEVENT

END:VCALENDAR
