BEGIN:VCALENDAR
VERSION:2.0
PRODID:-//ChamberMaster//Event Calendar 2.0//EN
METHOD:PUBLISH
X-PUBLISHED-TTL:P3D
REFRESH-INTERVAL:P3D
CALSCALE:GREGORIAN
BEGIN:VEVENT
DTSTART:20140725T143000Z
DTEND:20140725T160000Z
X-MICROSOFT-CDO-ALLDAYEVENT:FALSE
SUMMARY:2014 July Networking Breakfast
DESCRIPTION:Randy Clark is our speaker this month he will be presenting:\n\n"Unleash the Hidden Power of QuickBooks" \n\nSo many business owners use QuickBooks\, but few are taking advantage of key tools native to the software that will allow them to see what their numbers are trying to tell them about their business.  Many use it to pay bills and invoice customers\, and don't go much beyond that.  Learn how to use simple techniques to get more from your accounting system in less time and with less hassle\, while at the same time making the reports more understandable and meaningful.  Don't just spend your time working in QuickBooks\, let QuickBooks be working for you.\n\nRandy Clark\, CPA Inc. P.C. is a trusted business advisor to small and closely held businesses\, and the individuals that run them.  Randy Clark founded his own firm back in 2012 and has been a CPA for over 17 years\, with a background that includes Big 4 accounting firm experience with Deloitte & Touche\, and many years leading accounting and finance teams at companies both private and public.  He is a QuickBooks ProAdvisor for both the desktop and online versions of the software\, and is passionate about helping small business owners see more clearly what their data is trying to tell them about their business.  With experience in handling mergers & acquisitions\, contract negotiations\, bankruptcy\, corporate restructurings\, and multiple accounting systems\, Mr. Clark is uniquely positioned to provide your business with accounting solutions and business insights that go beyond the traditional ideas of what your accountant can do for you.\n\n \n\nis month we are happy to welcome Randy Clark as our speaker back Brad Worthley as our speaker.  His topic is "10 Critical Steps that could Make or Break your Business."  Please join us for this informative event\, Brad is fun and we are looking forward to his presentation.
X-ALT-DESC;FMTTYPE=text/html:<span style="language:en-US\;"><span style="font-family:calibri\;"><span style="font-size:14.0pt\;">Randy Clark is our speaker this month he will be presenting:</span></span></span><br />\n<span style="font-style:italic\;font-weight:bold\;"><span style="font-family:calibri\;"><span style="font-size:16pt\;">&quot\;Unleash the Hidden Power of QuickBooks&quot\;</span></span></span>&nbsp\;<br />\n<span style="font-style:italic\;"><span style="font-family:calibri\;"><span style="font-size:14pt\;">So many business owners use QuickBooks\, but few are taking advantage of key tools native to the software that will allow them to see what their numbers are trying to tell them about their business.&nbsp\; Many use it to pay bills and invoice customers\, and don&#39\;t go much beyond that.&nbsp\; Learn how to use simple techniques to get more from your accounting system in less time and with less hassle\, while at the same time making the reports more understandable and meaningful.&nbsp\; Don&#39\;t just spend your time working in QuickBooks\, let QuickBooks be working for you.</span></span></span><br />\n<span style="language:en-US\;"><span style="font-family:calibri\;"><span style="font-size:14.0pt\;">Randy Clark\, CPA Inc. P.C. is a trusted business advisor to small and closely held businesses\, and the individuals that run them.&nbsp\; Randy Clark founded his own firm back in 2012 and has been a CPA for over 17 years\, with a background that includes Big 4 accounting firm experience with Deloitte &amp\; Touche\, and many years leading accounting and finance teams at companies both private and public.&nbsp\; He is a QuickBooks ProAdvisor for both the desktop and online versions of the software\, and is passionate about helping small business owners see more clearly what their data is trying to tell them about their business.&nbsp\; With experience in handling mergers &amp\; acquisitions\, contract negotiations\, bankruptcy\, corporate restructurings\, and multiple accounting systems\, Mr. Clark is uniquely positioned to provide your business with accounting solutions and business insights that go beyond the traditional ideas of what your accountant can do for you.</span></span></span><br />\n&nbsp\;<br />\nis month we are happy to welcome Randy Clark as our speaker back Brad Worthley as our speaker.&nbsp\; His topic is <strong>&quot\;10 Critical Steps that could Make or Break your Business</strong>.&quot\;&nbsp\; Please join us for this informative event\, Brad is fun and we are looking forward to his presentation.&nbsp\;&nbsp\;&nbsp\;
LOCATION:The Lake Shore 11448 Rainier Avenue S. Seattle WA 98178
UID:e.16.2702
SEQUENCE:3
DTSTAMP:20260425T205608Z
URL:http://devgorenton.chambermaster.com/events/details/2014-july-networking-breakfast-07-25-2014-2702
END:VEVENT

END:VCALENDAR
